BEGIN:VCALENDAR
VERSION:2.0
PRODID:-//Gardiner Brewing Company - ECPv6.15.20//NONSGML v1.0//EN
CALSCALE:GREGORIAN
METHOD:PUBLISH
X-WR-CALNAME:Gardiner Brewing Company
X-ORIGINAL-URL:https://demo.gardinerbrewingcompany.com
X-WR-CALDESC:Events for Gardiner Brewing Company
REFRESH-INTERVAL;VALUE=DURATION:PT1H
X-Robots-Tag:noindex
X-PUBLISHED-TTL:PT1H
BEGIN:VTIMEZONE
TZID:America/New_York
BEGIN:DAYLIGHT
TZOFFSETFROM:-0500
TZOFFSETTO:-0400
TZNAME:EDT
DTSTART:20180311T070000
END:DAYLIGHT
BEGIN:STANDARD
TZOFFSETFROM:-0400
TZOFFSETTO:-0500
TZNAME:EST
DTSTART:20181104T060000
END:STANDARD
BEGIN:DAYLIGHT
TZOFFSETFROM:-0500
TZOFFSETTO:-0400
TZNAME:EDT
DTSTART:20190310T070000
END:DAYLIGHT
BEGIN:STANDARD
TZOFFSETFROM:-0400
TZOFFSETTO:-0500
TZNAME:EST
DTSTART:20191103T060000
END:STANDARD
BEGIN:DAYLIGHT
TZOFFSETFROM:-0500
TZOFFSETTO:-0400
TZNAME:EDT
DTSTART:20200308T070000
END:DAYLIGHT
BEGIN:STANDARD
TZOFFSETFROM:-0400
TZOFFSETTO:-0500
TZNAME:EST
DTSTART:20201101T060000
END:STANDARD
END:VTIMEZONE
BEGIN:VEVENT
DTSTART;TZID=America/New_York:20191102T160000
DTEND;TZID=America/New_York:20191102T190000
DTSTAMP:20260424T143715
CREATED:20190820T180130Z
LAST-MODIFIED:20191025T150701Z
UID:209-1572710400-1572721200@demo.gardinerbrewingcompany.com
SUMMARY:Dylan Doyle Band
DESCRIPTION:Dylan is back at the Barn! Our friend is a Hudson Valley favorite\, bring your friends and your enemies. \nhttps://www.dylandoyleband.com/
URL:https://demo.gardinerbrewingcompany.com/event/dylan-doyle-band/
LOCATION:The Barn at Gardiner Brewing Company\, 699 State Route 208\, Gardiner\, NY\, 12525\, United States
CATEGORIES:Live Music
END:VEVENT
BEGIN:VEVENT
DTSTART;TZID=America/New_York:20191027T160000
DTEND;TZID=America/New_York:20191027T190000
DTSTAMP:20260424T143716
CREATED:20191022T184243Z
LAST-MODIFIED:20191025T150658Z
UID:234-1572192000-1572202800@demo.gardinerbrewingcompany.com
SUMMARY:The Classics
DESCRIPTION:Come hear the musical stylings of The Classics in The Barn. \n@TheClassicsBoogie
URL:https://demo.gardinerbrewingcompany.com/event/the-classics-2/
LOCATION:The Barn at Gardiner Brewing Company\, 699 State Route 208\, Gardiner\, NY\, 12525\, United States
CATEGORIES:Live Music
END:VEVENT
BEGIN:VEVENT
DTSTART;TZID=America/New_York:20191026T160000
DTEND;TZID=America/New_York:20191026T190000
DTSTAMP:20260424T143716
CREATED:20190820T175439Z
LAST-MODIFIED:20191025T150530Z
UID:200-1572105600-1572116400@demo.gardinerbrewingcompany.com
SUMMARY:Templars of Doom
DESCRIPTION:This band gets up to 11\, they don’t mess around! Come see a GBC favorite. \nhttps://templarsofdoom.bandcamp.com/
URL:https://demo.gardinerbrewingcompany.com/event/templars-of-doom-2/
LOCATION:The Barn at Gardiner Brewing Company\, 699 State Route 208\, Gardiner\, NY\, 12525\, United States
CATEGORIES:Live Music
END:VEVENT
BEGIN:VEVENT
DTSTART;TZID=America/New_York:20191020T160000
DTEND;TZID=America/New_York:20191020T190000
DTSTAMP:20260424T143717
CREATED:20190820T174411Z
LAST-MODIFIED:20191025T150650Z
UID:186-1571587200-1571598000@demo.gardinerbrewingcompany.com
SUMMARY:Kyle and Dan
DESCRIPTION:A GBC debut! \n“Two piece acoustic duo covering punk\, indie\, and classic rock songs from the 60’s thru the 2000’s on acoustic guitar and drums.”
URL:https://demo.gardinerbrewingcompany.com/event/kyle-and-dan/
LOCATION:The Barn at Gardiner Brewing Company\, 699 State Route 208\, Gardiner\, NY\, 12525\, United States
CATEGORIES:Live Music
END:VEVENT
BEGIN:VEVENT
DTSTART;TZID=America/New_York:20191019T160000
DTEND;TZID=America/New_York:20191019T190000
DTSTAMP:20260424T143717
CREATED:20190820T175403Z
LAST-MODIFIED:20191025T150647Z
UID:198-1571500800-1571511600@demo.gardinerbrewingcompany.com
SUMMARY:Soul Purpose
DESCRIPTION:Hudson Valley Magazine’s 2017 Best Local Band! \nWe love a new band in the Barn! Come see this unique seven piece band at GBC. \n“Described by the Huguenot Herald as ‘a smokin’ band whose joyous renditions of R&B\, Soul and Swing will lift your heart\, gathering the boisterous energy of a dancing crowd and channeling it into a melodic explosion’\, Soul Purpose delivers a visceral rhythm and soul sound to an ever-growing fan base.”
URL:https://demo.gardinerbrewingcompany.com/event/soul-purpose/
LOCATION:The Barn at Gardiner Brewing Company\, 699 State Route 208\, Gardiner\, NY\, 12525\, United States
CATEGORIES:Live Music
END:VEVENT
BEGIN:VEVENT
DTSTART;TZID=America/New_York:20191013T150000
DTEND;TZID=America/New_York:20191013T190000
DTSTAMP:20260424T143717
CREATED:20190820T182549Z
LAST-MODIFIED:20191025T150644Z
UID:211-1570978800-1570993200@demo.gardinerbrewingcompany.com
SUMMARY:Gridline
DESCRIPTION:A GBC first! Featured in Relix Magazine as an up-and-coming artist! \nFounded in 2012 on the SUNY Purchase campus\, Gridline formed a band and caught attention through organizing and headlining DIY psychedelic sets at campus venues that they converted for live performances. \n“Gridline continues to captivate audiences with their high-octane blend of funk\, soul\, and rock and roll.”
URL:https://demo.gardinerbrewingcompany.com/event/gridline/
LOCATION:The Barn at Gardiner Brewing Company\, 699 State Route 208\, Gardiner\, NY\, 12525\, United States
CATEGORIES:Live Music
END:VEVENT
BEGIN:VEVENT
DTSTART;TZID=America/New_York:20191012T160000
DTEND;TZID=America/New_York:20191012T190000
DTSTAMP:20260424T143717
CREATED:20190820T175202Z
LAST-MODIFIED:20191025T150640Z
UID:196-1570896000-1570906800@demo.gardinerbrewingcompany.com
SUMMARY:Bunker Boys
DESCRIPTION:Bunker Boys get loud in the Barn. \nPersonal interests include…\n“Local beer & ciders\, farming\, moonshine\, dogs\, chickens\, wood working\, spackle\, hunting\, barbecue\, Delfest\, Jesus\, Family\, and America.”\nRight on! \n“A six man band from Coldenham NY\, the Bunker Boys are a melodious freight train of hillbilly havoc running all over the Hudson Valley. Rooted in Carter family style gospel singing\, these boys are set to lift spirits high and keep them there.”
URL:https://demo.gardinerbrewingcompany.com/event/bunker-boys/
LOCATION:The Barn at Gardiner Brewing Company\, 699 State Route 208\, Gardiner\, NY\, 12525\, United States
CATEGORIES:Live Music
END:VEVENT
BEGIN:VEVENT
DTSTART;TZID=America/New_York:20191006T160000
DTEND;TZID=America/New_York:20191006T190000
DTSTAMP:20260424T143717
CREATED:20191004T154817Z
LAST-MODIFIED:20191025T150637Z
UID:229-1570377600-1570388400@demo.gardinerbrewingcompany.com
SUMMARY:Kevin Cronin - Acoustic
DESCRIPTION:Our friend Kevin brings a rockin’ crowd! Come join him as we pour drinks in celebration of Fall.
URL:https://demo.gardinerbrewingcompany.com/event/kevin-cronin-acoustic/
LOCATION:The Barn at Gardiner Brewing Company\, 699 State Route 208\, Gardiner\, NY\, 12525\, United States
CATEGORIES:Live Music
END:VEVENT
BEGIN:VEVENT
DTSTART;TZID=America/New_York:20191005T160000
DTEND;TZID=America/New_York:20191005T190000
DTSTAMP:20260424T143717
CREATED:20190814T022907Z
LAST-MODIFIED:20191025T150634Z
UID:139-1570291200-1570302000@demo.gardinerbrewingcompany.com
SUMMARY:Judith Tulloch
DESCRIPTION:A Barn favorite. Come see Judith and her band rock out! \nwww.judithtulloch.com
URL:https://demo.gardinerbrewingcompany.com/event/judith-tulloch/
LOCATION:The Barn at Gardiner Brewing Company\, 699 State Route 208\, Gardiner\, NY\, 12525\, United States
CATEGORIES:Live Music
END:VEVENT
BEGIN:VEVENT
DTSTART;VALUE=DATE:20191004
DTEND;VALUE=DATE:20191005
DTSTAMP:20260424T143717
CREATED:20191004T154909Z
LAST-MODIFIED:20191025T150631Z
UID:231-1570147200-1570233599@demo.gardinerbrewingcompany.com
SUMMARY:Private Event
DESCRIPTION:Host your party\, wedding\, shower\, any celebration in the Barn!
URL:https://demo.gardinerbrewingcompany.com/event/private-event-2/
LOCATION:The Barn at Gardiner Brewing Company\, 699 State Route 208\, Gardiner\, NY\, 12525\, United States
CATEGORIES:Private Event
END:VEVENT
BEGIN:VEVENT
DTSTART;TZID=America/New_York:20190929T160000
DTEND;TZID=America/New_York:20190929T190000
DTSTAMP:20260424T143717
CREATED:20190820T175039Z
LAST-MODIFIED:20191025T150627Z
UID:194-1569772800-1569783600@demo.gardinerbrewingcompany.com
SUMMARY:Oxford Station Band
DESCRIPTION:GBC loves OSB! Come see this Hudson Valley favorites in the Barn. \n“Oxford Station Band is an acoustic classic rock band performing in the Mid-Hudson Valley Region of New York.”
URL:https://demo.gardinerbrewingcompany.com/event/oxford-station-band-2/
LOCATION:The Barn at Gardiner Brewing Company\, 699 State Route 208\, Gardiner\, NY\, 12525\, United States
CATEGORIES:Live Music
END:VEVENT
BEGIN:VEVENT
DTSTART;TZID=America/New_York:20190928T160000
DTEND;TZID=America/New_York:20190928T190000
DTSTAMP:20260424T143717
CREATED:20190820T174938Z
LAST-MODIFIED:20191025T150625Z
UID:192-1569686400-1569697200@demo.gardinerbrewingcompany.com
SUMMARY:Diablo Station
DESCRIPTION:A little combo band action in the Barn! We dig it! \n“A musical compilation of the Orange County bands Sugarloaf Station and Blanco Diablos.”
URL:https://demo.gardinerbrewingcompany.com/event/diablo-station/
LOCATION:The Barn at Gardiner Brewing Company\, 699 State Route 208\, Gardiner\, NY\, 12525\, United States
CATEGORIES:Live Music
END:VEVENT
BEGIN:VEVENT
DTSTART;TZID=America/New_York:20190922T153000
DTEND;TZID=America/New_York:20190922T183000
DTSTAMP:20260424T143717
CREATED:20190820T174828Z
LAST-MODIFIED:20191025T150622Z
UID:190-1569166200-1569177000@demo.gardinerbrewingcompany.com
SUMMARY:Lucky House
DESCRIPTION:Lucky House rocks the Barn with “roots rock and roll!” \nWith\nHeather Colvin / Lead Vocals\, Harmonica\, Melodica\nJoe DiBisceglie / Guitar\nSal Santana / Drums\nBrittany Earl / Bass
URL:https://demo.gardinerbrewingcompany.com/event/lucky-house/
LOCATION:The Barn at Gardiner Brewing Company\, 699 State Route 208\, Gardiner\, NY\, 12525\, United States
CATEGORIES:Live Music
END:VEVENT
BEGIN:VEVENT
DTSTART;TZID=America/New_York:20190921T160000
DTEND;TZID=America/New_York:20190921T190000
DTSTAMP:20260424T143717
CREATED:20190815T011543Z
LAST-MODIFIED:20191025T150619Z
UID:163-1569081600-1569092400@demo.gardinerbrewingcompany.com
SUMMARY:Shane and EightFingers
DESCRIPTION:“EightFingers is a soul driven\, Southern charmed\, rock ignited group based in Eastern PA/Hudson Valley NY.\nThis group brings delight to every audience – raising the dancers out of their seats and captivating the listening crowd with their dynamic control and blues sensibility. In addition to original material\, EightFingers covers a wide variety of music from the genres of rock\, blues\, soul\, country\, pop\, and more! This is a group built on bringing people together – love and friendship is what we are all about!” \n 
URL:https://demo.gardinerbrewingcompany.com/event/shane-and-eightfingers/
LOCATION:The Barn at Gardiner Brewing Company\, 699 State Route 208\, Gardiner\, NY\, 12525\, United States
CATEGORIES:Live Music
END:VEVENT
BEGIN:VEVENT
DTSTART;TZID=America/New_York:20190915T160000
DTEND;TZID=America/New_York:20190915T190000
DTSTAMP:20260424T143717
CREATED:20190820T174703Z
LAST-MODIFIED:20191025T150616Z
UID:188-1568563200-1568574000@demo.gardinerbrewingcompany.com
SUMMARY:Four of a Kind
DESCRIPTION:“We are a four piece band currently playing venues in the mid Hudson valley of New York. We mostly play classic rock\, blues\, country.”
URL:https://demo.gardinerbrewingcompany.com/event/four-of-a-kind/
LOCATION:The Barn at Gardiner Brewing Company\, 699 State Route 208\, Gardiner\, NY\, 12525\, United States
CATEGORIES:Live Music
END:VEVENT
BEGIN:VEVENT
DTSTART;TZID=America/New_York:20190914T160000
DTEND;TZID=America/New_York:20190914T190000
DTSTAMP:20260424T143717
CREATED:20190815T011427Z
LAST-MODIFIED:20191025T150612Z
UID:161-1568476800-1568487600@demo.gardinerbrewingcompany.com
SUMMARY:Don Lewis Band
DESCRIPTION:“Called a roots-rock influenced artist\, Don has always been dedicated to the song first. In the tradition of American singer-songwriters\, his six albums include songs that reflect the human condition: from affairs of the heart\, to the injustices and obstacles that we battle\, to reflections on the life lessons we endure.” \nCome see an Hudson Valley musician play in the Barn.
URL:https://demo.gardinerbrewingcompany.com/event/don-lewis-band/
LOCATION:The Barn at Gardiner Brewing Company\, 699 State Route 208\, Gardiner\, NY\, 12525\, United States
CATEGORIES:Live Music
END:VEVENT
BEGIN:VEVENT
DTSTART;TZID=America/New_York:20190908T160000
DTEND;TZID=America/New_York:20190908T190000
DTSTAMP:20260424T143717
CREATED:20190814T023127Z
LAST-MODIFIED:20191025T150609Z
UID:141-1567958400-1567969200@demo.gardinerbrewingcompany.com
SUMMARY:Dylan Doyle - 1 YEAR ANNIVERSARY OF THE GRAND OPENING OF GARDINER BREWING COMPANY!
DESCRIPTION:Come celebrate the 1 year anniversary of our grand opening with Dylan Doyle! \nRaised in the Hudson Valley\, Dylan Doyle has toured internationally since his teenage years and continues to impress fans world-wide with his guitar-playing and songwriting skills.
URL:https://demo.gardinerbrewingcompany.com/event/dylan-doyle-1-year-anniversary-of-the-grand-opening-of-gardiner-brewing-company/
LOCATION:NY
CATEGORIES:Live Music
END:VEVENT
BEGIN:VEVENT
DTSTART;TZID=America/New_York:20190907T160000
DTEND;TZID=America/New_York:20190907T190000
DTSTAMP:20260424T143717
CREATED:20190814T022733Z
LAST-MODIFIED:20191025T150606Z
UID:137-1567872000-1567882800@demo.gardinerbrewingcompany.com
SUMMARY:The Classics
DESCRIPTION:A GBC first! The Classics play a combination of funk\, soul\, and reggae\, bringing a smooth sound to the Barn.
URL:https://demo.gardinerbrewingcompany.com/event/the-classics/
LOCATION:The Barn at Gardiner Brewing Company\, 699 State Route 208\, Gardiner\, NY\, 12525\, United States
CATEGORIES:Live Music
END:VEVENT
BEGIN:VEVENT
DTSTART;TZID=America/New_York:20190901T160000
DTEND;TZID=America/New_York:20190901T190000
DTSTAMP:20260424T143717
CREATED:20190827T174311Z
LAST-MODIFIED:20191025T150603Z
UID:213-1567353600-1567364400@demo.gardinerbrewingcompany.com
SUMMARY:Potato Radio
DESCRIPTION:Our good friends are playing in the Barn! Come check out this local group that reunited at Gardiner Brewing Company.
URL:https://demo.gardinerbrewingcompany.com/event/potato-radio/
LOCATION:The Barn at Gardiner Brewing Company\, 699 State Route 208\, Gardiner\, NY\, 12525\, United States
CATEGORIES:Live Music
END:VEVENT
BEGIN:VEVENT
DTSTART;TZID=America/New_York:20190831T160000
DTEND;TZID=America/New_York:20190831T190000
DTSTAMP:20260424T143717
CREATED:20190814T022512Z
LAST-MODIFIED:20191025T150559Z
UID:135-1567267200-1567278000@demo.gardinerbrewingcompany.com
SUMMARY:Judith Tulloch Band
DESCRIPTION:Another Barn favorite! Judith Tulloch’s strong vocals backed by the blues-heavy rhythm of her band deliver a stunning blend of pop\, Brazilian jazz\, and blues. \nWith:\nJudith Tulloch – Guitar & vocals\nStephen Franchino – Flutes\nTom Richardson – Bass\nOwen Winter – Percussion
URL:https://demo.gardinerbrewingcompany.com/event/judith-tulloch-band/
LOCATION:The Barn at Gardiner Brewing Company\, 699 State Route 208\, Gardiner\, NY\, 12525\, United States
CATEGORIES:Live Music
END:VEVENT
BEGIN:VEVENT
DTSTART;TZID=America/New_York:20190825T160000
DTEND;TZID=America/New_York:20190825T190000
DTSTAMP:20260424T143717
CREATED:20190814T022256Z
LAST-MODIFIED:20191025T150557Z
UID:133-1566748800-1566759600@demo.gardinerbrewingcompany.com
SUMMARY:Oxford Station Band
DESCRIPTION:Come see GBC favorite Oxford Station Band as they return to the Barn. OSB will be dishing out their mix of acoustic rock\, country\, and Americana.
URL:https://demo.gardinerbrewingcompany.com/event/oxford-station-band/
LOCATION:The Barn at Gardiner Brewing Company\, 699 State Route 208\, Gardiner\, NY\, 12525\, United States
CATEGORIES:Live Music
END:VEVENT
BEGIN:VEVENT
DTSTART;TZID=America/New_York:20190824T160000
DTEND;TZID=America/New_York:20190824T190000
DTSTAMP:20260424T143717
CREATED:20190814T022044Z
LAST-MODIFIED:20191025T150552Z
UID:131-1566662400-1566673200@demo.gardinerbrewingcompany.com
SUMMARY:Kevin Cronin
DESCRIPTION:Come see our friend Kevin play all your favorites with his guitar and beautiful voice.
URL:https://demo.gardinerbrewingcompany.com/event/kevin-cronin/
LOCATION:The Barn at Gardiner Brewing Company\, 699 State Route 208\, Gardiner\, NY\, 12525\, United States
CATEGORIES:Live Music
END:VEVENT
BEGIN:VEVENT
DTSTART;TZID=America/New_York:20190823T180000
DTEND;TZID=America/New_York:20190823T210000
DTSTAMP:20260424T143717
CREATED:20190820T174235Z
LAST-MODIFIED:20191025T150549Z
UID:184-1566583200-1566594000@demo.gardinerbrewingcompany.com
SUMMARY:Private Event
DESCRIPTION:Private Event in the Barn. \nContact gardinerbrewingcompany@gmail.com today to book your private event\, wedding\, baby shower\, bridal shower\, birthday party!
URL:https://demo.gardinerbrewingcompany.com/event/private-event/
LOCATION:The Barn at Gardiner Brewing Company\, 699 State Route 208\, Gardiner\, NY\, 12525\, United States
CATEGORIES:Private Event
END:VEVENT
BEGIN:VEVENT
DTSTART;TZID=America/New_York:20190818T153000
DTEND;TZID=America/New_York:20190818T183000
DTSTAMP:20260424T143717
CREATED:20190814T020358Z
LAST-MODIFIED:20191025T150542Z
UID:123-1566142200-1566153000@demo.gardinerbrewingcompany.com
SUMMARY:Dan Brother Band
DESCRIPTION:See an acoustic set from the Dan Brother Band\, a band hailing from Middletown\, NY\, in their first ever appearance in the Barn. \n“Blues\, Soul\, Rock\, Roll… & keep it Funky\, baby.”
URL:https://demo.gardinerbrewingcompany.com/event/dan-brother-band/
LOCATION:The Barn at Gardiner Brewing Company\, 699 State Route 208\, Gardiner\, NY\, 12525\, United States
CATEGORIES:Live Music
END:VEVENT
BEGIN:VEVENT
DTSTART;TZID=America/New_York:20190817T160000
DTEND;TZID=America/New_York:20190817T190000
DTSTAMP:20260424T143717
CREATED:20190814T015553Z
LAST-MODIFIED:20191025T150539Z
UID:117-1566057600-1566068400@demo.gardinerbrewingcompany.com
SUMMARY:The Templars of Doom
DESCRIPTION:Bringing down the Barn with great Irish Bagpipe Punk Rock!
URL:https://demo.gardinerbrewingcompany.com/event/the-templars-of-doom/
LOCATION:The Barn at Gardiner Brewing Company\, 699 State Route 208\, Gardiner\, NY\, 12525\, United States
CATEGORIES:Live Music
END:VEVENT
END:VCALENDAR